BEGIN:VCALENDAR
VERSION:2.0
PRODID:-//wp-events-plugin.com//7.2.3.1//EN
BEGIN:VEVENT
UID:1@unser-luki.de
DTSTART:20260501T080000Z
DTEND:20260503T193000Z
DTSTAMP:20260423T152948Z
URL:https://www.unser-luki.de/veranstaltungen/maifeier-tanz-um-den-maibaum
 /
SUMMARY:Maifeier: "Tanz um den Maibaum"
DESCRIPTION:Der Maibaumverein Sendling-Westpark lädt wieder ein zum "Tanz 
 um. den Maibaum" vom 1. bis 3. Mai 2026 jeden Tag bis 21:30 Uhr.\n\nEs wir
 d wieder ein buntes Programm geboten.\n\n[caption id="attachment_130" alig
 n="alignnone" width="600"] Tanz um den Maibaum\, 1. bis 3. Mai 2026[/capti
 on]
CATEGORIES:Maibaumfest
LOCATION:Luise-Kiesselbach-Platz\, Luise-Kiesselbach-Platz\, München\, Bay
 ern\, 81377\, Deutschland
X-APPLE-STRUCTURED-LOCATION;VALUE=URI;X-ADDRESS=Luise-Kiesselbach-Platz\, M
 ünchen\, Bayern\, 81377\, Deutschland;X-APPLE-RADIUS=100;X-TITLE=Luise-Ki
 esselbach-Platz:geo:0,0
END:VEVENT
END:VCALENDAR